BEGIN:VCALENDAR
VERSION:2.0
PRODID:-//Ekvilibrium - ECPv6.15.20//NONSGML v1.0//EN
CALSCALE:GREGORIAN
METHOD:PUBLISH
X-ORIGINAL-URL:https://www.ekvilibrium.si
X-WR-CALDESC:Dogodki za Ekvilibrium
REFRESH-INTERVAL;VALUE=DURATION:PT1H
X-Robots-Tag:noindex
X-PUBLISHED-TTL:PT1H
BEGIN:VTIMEZONE
TZID:Europe/Paris
BEGIN:DAYLIGHT
TZOFFSETFROM:+0100
TZOFFSETTO:+0200
TZNAME:CEST
DTSTART:20200329T010000
END:DAYLIGHT
BEGIN:STANDARD
TZOFFSETFROM:+0200
TZOFFSETTO:+0100
TZNAME:CET
DTSTART:20201025T010000
END:STANDARD
BEGIN:DAYLIGHT
TZOFFSETFROM:+0100
TZOFFSETTO:+0200
TZNAME:CEST
DTSTART:20210328T010000
END:DAYLIGHT
BEGIN:STANDARD
TZOFFSETFROM:+0200
TZOFFSETTO:+0100
TZNAME:CET
DTSTART:20211031T010000
END:STANDARD
BEGIN:DAYLIGHT
TZOFFSETFROM:+0100
TZOFFSETTO:+0200
TZNAME:CEST
DTSTART:20220327T010000
END:DAYLIGHT
BEGIN:STANDARD
TZOFFSETFROM:+0200
TZOFFSETTO:+0100
TZNAME:CET
DTSTART:20221030T010000
END:STANDARD
BEGIN:DAYLIGHT
TZOFFSETFROM:+0100
TZOFFSETTO:+0200
TZNAME:CEST
DTSTART:20230326T010000
END:DAYLIGHT
BEGIN:STANDARD
TZOFFSETFROM:+0200
TZOFFSETTO:+0100
TZNAME:CET
DTSTART:20231029T010000
END:STANDARD
BEGIN:DAYLIGHT
TZOFFSETFROM:+0100
TZOFFSETTO:+0200
TZNAME:CEST
DTSTART:20240331T010000
END:DAYLIGHT
BEGIN:STANDARD
TZOFFSETFROM:+0200
TZOFFSETTO:+0100
TZNAME:CET
DTSTART:20241027T010000
END:STANDARD
END:VTIMEZONE
BEGIN:VEVENT
DTSTART;TZID=Europe/Paris:20231019T170000
DTEND;TZID=Europe/Paris:20231019T210000
DTSTAMP:20260420T013819
CREATED:20230822T181848Z
LAST-MODIFIED:20231023T105620Z
UID:10721-1697734800-1697749200@www.ekvilibrium.si
SUMMARY:6-mesečni podporni ženski krog: NISI SAMA
DESCRIPTION:Odpiram vrata za nov ženski krog\, v katerem se bomo dobivale enkrat mesečno\, se spuščale vsaka v svoje globine in hkrati med sabo delile tako naše izzive kot naše zaklade. \nZaznavam\, da se veliko žensk pri vsem\, kar se vam dogaja znotraj\, velikokrat počutite same\, nerazumljene\, ne videne\, nesprejete. Da nimate nikogar\, s katerim bi podelile svoje najgloblje občutke\, izkušnje\, razmišljanja. Pa tudi svoje duhovna izkustva\, zaradi katerih se marsikatera od vas na trenutke počuti malce nora. \nPa nisi nora! In nisi sama! \nV novi ženski krog vabim tiste\, ki se želite premakniti naprej\, pa vas še vedno nekaj zadržuje. Tiste\, ki se že dolgo vrtite v enem in istem začaranem krogu\, iz katerega ne morete izstopiti. Tiste\, ki potrebujete malce podpore\, da še bolj trdno stojite v tem\, kar ste. In tiste\, ki si želite »samo« še malce bolj raziskati\, kdo ste onkraj tega\, kar že veste o sebi. \nPredvsem pa dobrodošle tiste\, ki ste se temu\, s čimer boste vstopile v krog in kar se bo vmes dogajalo\, pripravljene zavezati in iti do konca. Program je zastavljen tako\, da vas bo skozi malce daljše časovno obdobje dovolj podpiral\, usmerjal\, pa tudi dovolj izzival\, da boste dobile kakšen nov uvid o sebi\, naredile naslednji korak\, presegle kakšno svojo omejitev in morda doživele tudi kakšen preboj. \nIzjemno močna izkušnja se lahko zgodi\, ko se ženske odpremo ena drugi in podelimo svoje izzive\, strahove\, bolečine\, izkušnje\, preboje\, zmage. Brez obsojanje\, brez analiziranja\, brez potrebe po iskanju rešitve\, brez strahu pred našo ranljivostjo\, divjostjo\, močjo … Ob tem darilo dobimo vse\, tiste\, ki delimo in tiste\, ki poslušamo. Ker se vsaka naša zgodba dotakne tudi zgodb drugih in obratno. \nDobrodošla! \nKAJ BOSTE LAHKO IZKUSILE SKOZI RAZLIČNE PRIJEME?\n• Kar je skrito v tvoji senci\n• Zdravljenje notranjega otroka\n• Odnos tvoje notranje ženske in moškega\n• Spoznavanje sebe v drugih (projekcije & zrcaljenje)\n• Vpliv travme na tvoje vzorce razmišljanja in delovanja\n• Modrost tvoje telesne inteligence \nKAJ BOMO DELALE?\n• skupinske energijske transmisije\n• pogovore na tiste teme\, ki vas zanimajo\, ali so povezane z vašimi izzivi\n• različna vodena potovanja vase\n• domače naloge \nVodenje & podpora: Urška Henigman \nVeč o programu. \n(op. Delavnica ni primerna za psihično nestabilne osebe\, osebe\, ki se zdravijo za psihično ali duševno boleznijo\, za osebe\, nagnjenim k zavračanju realnosti ter za odvisnike.)\nREZERVIRAJTE SI ČAS V KOLEDARJU!\nSrečanja bodo v Ljubljani\, od 17.00 -21.00.\n19.10. – 1. srečanje\n16.11. – 2. srečanje\n7.12. – 3. srečanje\n15.2. – 5. srečanje\n14.3. – 6. srečanje \n13.1. – celodnevna delavnica \nV vmesnem obdobju ima vsaka udeleženka možnost izkoriščenja ene individualne transmisije. \nCENA PROGRAMA: 660 €* \n(*Možno plačilo v enem\, dveh ali treh obrokih. Prvi obrok do 15.10.2023\, drugi do 5.12.2023\, tretji do 10.2.2024.) \nPlačilo s prijavnico po predračunu. \nCena vključuje:\n• 5 x štiriurna srečanja v živo\n• 1 celodnevna delavnica v živo\n• 1 individualno transmisijo\n• druženje v zaprti FB skupini\n• posnetke vseh vodenih potovanj in e-transmisij na naših srečanjih \nPRIJAVA v program\ndo 12. oktobra 2023\n(oziroma do zapolnitve mest) \nSkupina je omejena na največ 15 ljudi. \nDODATNE INFORMACIJE:\nUrska.henigman@ekvilibrium.si\nGSM 041 282 002
URL:https://www.ekvilibrium.si/dogodek/6-mesecni-podporni-zenski-krog-nisi-sama/
ATTACH;FMTTYPE=image/png:https://www.ekvilibrium.si/wp-content/uploads/2023/08/nisi-sama-cover.png
END:VEVENT
BEGIN:VEVENT
DTSTART;TZID=Europe/Paris:20230617T170000
DTEND;TZID=Europe/Paris:20230617T220000
DTSTAMP:20260420T013819
CREATED:20230601T164645Z
LAST-MODIFIED:20230602T064013Z
UID:10639-1687021200-1687039200@www.ekvilibrium.si
SUMMARY:Solsticijsko zvočno-transmisijsko praznovanje
DESCRIPTION:Poletni solsticij velja za enega od energijsko najmočnejših dni v letu. Energije narave so ta dan najbolj naklonjene manifestaciji vseh vrst\, zato ga številne kulture že tisočletja praznujejo kot čas preporoda in začetka novega cikla. \nPraznovali ga bomo tudi letos. V kočevskem gozdu\, ob prijetni koči\, stran od civilizacije\, kjer ni niti telefonskega signala. Zakurili bomo ogenj\, se povezali z njim\, v sebi prebudili našo izvorno silo\, našo pravo naravo in pustili\, da se ta izrazi skozi nas z glasom\, bobni\, drugimi inštrumenti in plesom.  Za zaključek bomo naredili še obred z ognjem in si privoščili večerno energijsko transmisijo na travnatih tleh. \nV koči je na voljo tudi 14 ležišč\, če bo kdo želel prespati. \nVodiva: Urška Henigman in Saša Aleksandra Danilova \n************************************************ \nOKVIREN PROGRAM:\n17.00 – 18.00: ZBIRANJE\, DRUŽENJE\, PRIPRAVA OGNJA  \n18.00 – 18.30: CEREMONIJA S SVETIM KAKAVOM (Saša) \n18.30 – 20.00: PRAZNOVANJE Z INTUITIVNIM PETJEM\, BOBNI\, PLESOM (Saša)\nPrinesite svoje inštrumente\, ki jih imate. Znanje petja ali igranja ni potrebno\, v harmonijo zvoka\, glasu in telesa bomo šli intuitivno\, skozi tok pa nas bo vodila Saša. \n20.00 – 22.00: OBRED Z OGNJEM IN ENERGIJSKA TRANSMISIJA  (Urška)\nOgnju bomo v transformacijo predali vse\, česar več ne potrebujemo\, z energijsko transmisijo pa podprli\, kar želimo priklicati v svoje življenje. \n***************************** \nLOKACIJA:\nKoča v okolici Ribnice. \nCENA: 60 €\n(*Cena za nočitev\, kdor želi prenočiti: 10 €) \nOPOZORILO:\nV primeru slabega vremena druženje odpade. \nPODROBNE INFORMACIJE in navodila vsi prijavljeni dobite najkasneje 3 dni pred srečanjem. \nPRIJAVA:\ndo 13. junija oziroma do zapolnitve mest\nali na e-mail: urska.henigman@ekvilibrium.si \n(op. Udeležba na energijski transmisiji je na lastno odgovornost. Psihično nestabilnim osebam\, osebam\, ki se zdravijo za psihično ali duševno boleznijo\, osebam\, nagnjenim k zavračanju realnosti ter odvisnikom udeležbo na transmisiji izrecno odsvetujem.)\n[vc_btn title=”Prijavi se” style=”3d” color=”inverse” align=”center” css_animation=”appear” link=”url:http%3A%2F%2Fwww.ekvilibrium.si%2Fwww.ekvilibrium.si/prijava-na-praznovanje-solsticija%2F||target:%20_blank|”] \n  \n********************************\nPRIJAVA NA E-NOVIČNIK EKVILIBRIUM:\nV njem enkrat do dvakrat mesečno objavljam napovednik dogodkov tekočega meseca\, informacije o programih in delavnicah\, ter svoje prebliske (bloge & poezijo).
URL:https://www.ekvilibrium.si/dogodek/solsticijsko-zvocno-transmisijsko-praznovanje/
ATTACH;FMTTYPE=image/png:https://www.ekvilibrium.si/wp-content/uploads/2023/06/Copy-of-Solsticij-2023.png
END:VEVENT
BEGIN:VEVENT
DTSTART;TZID=Europe/Paris:20220929T170000
DTEND;TZID=Europe/Paris:20220929T210000
DTSTAMP:20260420T013819
CREATED:20220720T074319Z
LAST-MODIFIED:20221006T090940Z
UID:10063-1664470800-1664485200@www.ekvilibrium.si
SUMMARY:9-mesečni podporni ženski krog: NISI SAMA
DESCRIPTION:Na voljo je še 5 mest!\nLani je petnajst žensk ustvarilo močan podporni ženski\, sestrski krog\, v katerem smo se dobivale približno enkrat mesečno. V krogu smo odprto delile med seboj\, kar se nam je dogajalo\, znotraj in navzven\, odprle srce ena drugi\, v vsem\, kar je priplavalo na dan in se podpirale. Jeseni z našim krogom nadaljujemo\, hkrati odpiram vrata\, da se nam pridruži še 5 žensk. \nIzjemno močna izkušnja se lahko zgodi\, ko se ženske odpremo ena drugi in podelimo svoje izzive\, strahove\, bolečine\, izkušnje\, preboje\, zmage. Brez obsojanje\, brez analiziranja\, brez potrebe po iskanju rešitve\, brez strahu pred našo ranljivostjo\, divjostjo\, močjo … Ob tem darilo dobimo vse\, tiste\, ki delimo in tiste\, ki poslušamo. Ker se vsaka naša zgodba dotakne tudi zgodb drugih in obratno. \nZaznavam\, da se veliko žensk pri svojih izzivih oziroma pri vsem\, kar se dogaja znotraj njih\, počutijo same\, nerazumljene\, ne videne\, nesprejete. Da nimajo nikogar\, s katerim bi podelile svoje najgloblje občutke\, izkušnje\, razmišljanja. Pa tudi svoje duhovna izkustva\, zaradi katerih se marsikatera na trenutke počuti malce nora. \nPa nisi nora! In nisi sama! \nV naš krog vabim tiste\, ki čutite da ste tik pred tem\, da se znotraj sebe premaknete naprej\, da poletite\, pa vas še nekaj drži nazaj. Tiste\, ki se že predolgo vrtite v enem in istem začaranem krogu\, iz katerega ne morete izstopiti. In tiste\, ki potrebujete samo malce podpore\, da še bolj trdno stojite v tem\, kar ste. \nProgram je zastavljen tako\, da vas bo skozi malce daljše časovno obdobje dovolj podpiral\, usmerjal\, pa tudi dovolj izzival\, da boste naredili vse potrebne naslednje korake. \nSkupina bo zaprtega tipa\, v njej bo vključenih največ 15 žensk. \nKAJ BOMO DELALE?\n• skupinske energijske transmisije\n• pogovore na tiste teme\, ki vas zanimajo\, ali so povezane z vašimi izzivi\n• različna vodena potovanja vase\n• domače naloge \nVodenje & podpora: Urška Henigman \nVeč o programu. \n(op. Delavnica ni primerna za psihično nestabilne osebe\, osebe\, ki se zdravijo za psihično ali duševno boleznijo\, za osebe\, nagnjenim k zavračanju realnosti ter za odvisnike.)\nKAJ VKLJUČUJE PROGRAM?\n• 8 x štiri urna on-line srečanja\n• 1 celodnevna delavnica v živo\n• podpora v zaprti FB skupini\n• posnetki vseh e-transmisij na naših srečanjih \n  \nRezervirajte si čas za naša srečanja! (4 ure/srečanje)\n29.9. – srečanje v živo ob 17.00\n20.10. – zoom srečanje ob 18.00\n17.11. – zoom srečanje ob 18.00\n15.12. – srečanje v živo ob 17.00\n19.1. – zoom srečanje ob 18.00\n23.3. – srečanje v živo ob 17.00\n20.4. – zoom srečanje ob 18.00\n18.5. – srečanje v živo ob 17.00 \n25.2. – celodnevna delavnica  \nCENA programa: 660 €\n(*Možno plačilo v treh obrokih.) \nPlačilo s prijavnico po predračunu \nPRIJAVA v program \ndo 20. septembra 2021\n(oziroma do zapolnitve mest) \nSkupina je omejena na največ 15 ljudi. \nDODATNE INFORMACIJE:\nUrska.henigman@ekvilibrium.si\nGSM 041 282 002
URL:https://www.ekvilibrium.si/dogodek/9-mesecni-podporni-zenski-krog-nisi-sama/
ATTACH;FMTTYPE=image/png:https://www.ekvilibrium.si/wp-content/uploads/2021/09/FB-dogodek.png
END:VEVENT
BEGIN:VEVENT
DTSTART;TZID=Europe/Paris:20220618T110000
DTEND;TZID=Europe/Paris:20220618T190000
DTSTAMP:20260420T013819
CREATED:20220605T062929Z
LAST-MODIFIED:20220616T184851Z
UID:10008-1655550000-1655578800@www.ekvilibrium.si
SUMMARY:Solsticijska energijska transmisija v naravi
DESCRIPTION:Poletni solsticij velja za enega od energijsko najmočnejših dni v letu. Energije narave so ta dan najbolj naklonjene manifestaciji vseh vrst\, zato ni čudno\, da ga številne kulture že tisočletja praznujejo kot čas preporoda in začetka novega cikla. \nNa ta energijsko nabit dan tudi naša telesa absorbirajo močno energijo Sonca\, ki jo lahko izkoristimo za osebne premike in preboje. In prav to bomo na solsticij naredili tudi s posebno skupinsko energijsko transmisijo. Odprli bomo srce\, prižgali tisti svoj notranji plamen\, ki nas dela žive in se aktivirali za takšno življenje\, kot ga želimo živeti. \nKo sem čisto nepričakovano našla en čudovit prostor\, sem začutila povabilo\, da za solsticij pridemo tja in doživimo izkušnjo\, ki se je sestavila kar sama. Vabljeni vsi\, ki vas pokliče. \n  \nOKVIREN PROGRAM: \n11.00 – 13.00: OBČUTENJE 13 ENERGIJSKIH TOČK V GOZDIČKU \nSprehodili se bomo skozi gozdiček\, kjer je radiestezist Jože Munih izmeril 13 energijskih točk\, ki nas zdravijo\, umirjajo\, transformirajo\, odpirajo srce. Izkusili bomo nebeški vdih\, prestol\, skalo resnice\, drevesi dvojčici\, objem ljubezni\, votlino … \nSkozi gozd nas bo popeljala Darja Zavec. \n13.00 – 14.30: KOSILO \n14.30 – 16.00: SOLSTICIJSKO SPOROČILO ŽIVALSKIH VODNIKOV \nNa vodenem potovanju skozi šepet živalskih vodnikov bomo od njih prejeli skupno solsticijsko popotnico\, potem pa bo vsak potegnil še karto svojega živalskega vodnika in dobil tudi svoje sporočilo. \nSporočila nam bo prenesla Silva\, srebrna puščica. \n16:30 – 19.00:  SKUPINSKA ENERGIJSKA TRANSMISIJA NA TRAVNIKU TRANSFORMACIJE \n***************************** \nPRAKTIČNI NAPOTKI: \n1. Transmisijo bomo izpeljali na prostem\, zato se primerno oblecite\, da vas ne bo zeblo in da vam ne bo vroče.\n2. Seboj prinesite ležalko\, spalno vrečo in nekaj za pod glavo\, da vam bo udobno.\n3. Ker se bomo gibali po gozdu in ležali na pokošenem travniku\, poskrbite za zaščito pred komarji in klopi.\n4. Prinesite vodo\, ker po takšnem prenosu energije telo potrebuje dovolj tekočine.\n5. Če potrebujete popoldansko malico\, jo prinesite sabo.\n6. Na dan transmisije ne pijte alkohola. \nVsa bolj natančna navodila in informacije sporočim vsem prijavljenim 3 dni pred dogodkom. \n  \nLOKACIJA: Srečna hiša na Fobškem kalu (nad Novo Gorico) \nCENA: 70 €  (Cena vključuje celotno izkušnjo in kosilo.) \nOPOZORILO: V primeru slabega vremena srečanje odpade. \nPODROBNE INFORMACIJE in navodila vsi prijavljeni dobite najkasneje 3 dni pred srečanjem. \nPRIJAVA OBVEZNA:\ndo 15. junija oziroma do zapolnitve mest \n(op. Udeležba na energijski transmisiji je na lastno odgovornost. Psihično nestabilnim osebam\, osebam\, ki se zdravijo za psihično ali duševno boleznijo\, osebam\, nagnjenim k zavračanju realnosti ter odvisnikom udeležbo na transmisiji izrecno odsvetujem.)\n[vc_btn title=”Prijavi se” style=”3d” color=”inverse” align=”center” css_animation=”appear” link=”url:http%3A%2F%2Fwww.ekvilibrium.si%2Fprijava-na-solsticijsko-energijsko-transmisijo%2F||target:%20_blank|”] \n********************************\nPRIJAVA NA E-NOVIČNIK EKVILIBRIUM:\nV njem enkrat do dvakrat mesečno objavljam napovednik dogodkov tekočega meseca\, informacije o programih in delavnicah\, ter svoje prebliske (bloge & poezijo).
URL:https://www.ekvilibrium.si/dogodek/solsticijska-transmisija-v-naravi/
ATTACH;FMTTYPE=image/png:https://www.ekvilibrium.si/wp-content/uploads/2022/06/Solsticij-2022-1.png
END:VEVENT
BEGIN:VEVENT
DTSTART;TZID=Europe/Paris:20211104T070000
DTEND;TZID=Europe/Paris:20220224T220000
DTSTAMP:20260420T013819
CREATED:20210920T120644Z
LAST-MODIFIED:20210924T170404Z
UID:9627-1636009200-1645740000@www.ekvilibrium.si
SUMMARY:3-mesečni podporni ženski krog: NISI SAMA
DESCRIPTION:Zadnje čase opažam\, kako močna podpora je podpora ženskega kroga\, sester\, ki znajo podpreti ena drugo že samo s tem\, da odprejo srce vsemu\, kar priplava na dan. Brez obsojanje\, brez analiziranja\, brez potrebe po iskanju rešitve\, brez strahu pred našo ranljivostjo\, divjostjo\, močjo … Izjemno močna izkušnja se lahko zgodi\, ko se odpremo in podelimo svoje izzive\, strahove\, bolečine\, izkušnje\, preboje\, zmage. Ob tem darilo dobimo vse\, tiste\, ki delimo in tiste\, ki poslušamo. \nZaznavam tudi\, da se veliko žensk pri svojih izzivih oziroma pri vsem\, kar se dogaja znotraj njih\, počutijo same\, nerazumljene\, ne videne\, nesprejete. Da nimajo nikogar\, s katerim bi podelile svoje najgloblje občutke\, izkušnje\, razmišljanja. Pa tudi svoje duhovna izkustva\, zaradi katerih se marsikatera na trenutke počuti malce nora. \nPa nisi nora! In nisi sama! \nZato razpisujem trimesečno podporno skupino samo za ženske. Vanj vabim tiste\, ki čutite da ste tik pred tem\, da se znotraj sebe premaknete naprej\, da poletite\, pa vas še nekaj drži nazaj. Tiste\, ki se že predolgo vrtite v enem in istem začaranem krogu\, iz katerega ne morete izstopiti. In tiste\, ki potrebujete samo malce podpore\, da še bolj trdno stojite v tem\, kar ste. \nPredvsem dobrodošle tiste\, ki ste se temu\, s čimer boste vstopile v krog\, res pripravljene zavezati in iti do konca. Program je zastavljen tako\, da vas bo skozi malce daljše časovno obdobje dovolj podpiral\, usmerjal\, pa tudi dovolj izzival\, da boste naredili vse potrebne naslednje korake. \nKAJ BOMO DELALE?\n• skupinske energijske transmisije\n• pogovore na tiste teme\, ki vas zanimajo\, ali so povezane z vašimi izzivi\n• različna vodena potovanja vase\n• domače naloge \nVodenje & podpora: Urška Henigman \nVeč o programu. \n(op. Delavnica ni primerna za psihično nestabilne osebe\, osebe\, ki se zdravijo za psihično ali duševno boleznijo\, za osebe\, nagnjenim k zavračanju realnosti ter za odvisnike.)\nKAJ VKLJUČUJE PROGRAM?\n• 6 x tri urna on-line srečanja\n• 1 celodnevna delavnica v živo\n• podpora v zaprti FB skupini\n• posnetek e-transmisije \nPredvideni termini on-line srečanj\, od 19.00 do 22.00:\n4.11.\, 25.11.\, 16.12.\, 13.1. 2022\, 3.2.\, 24.2. \nPredvidena celodnevna delavnica: 22.1.2022 \nCENA programa: 330 €\n(*Možno plačilo v treh obrokih.) \nPlačilo s prijavnico po predračunu \nPRIJAVA v program \ndo 1. novembra 2021\n(oziroma do zapolnitve mest) \nSkupina je omejena na največ 15 ljudi. \nDODATNE INFORMACIJE:\nUrska.henigman@ekvilibrium.si\nGSM 041 282 002
URL:https://www.ekvilibrium.si/dogodek/3-mesecni-podporni-zenski-krog-nisi-sama/
ATTACH;FMTTYPE=image/png:https://www.ekvilibrium.si/wp-content/uploads/2021/09/FB-dogodek.png
END:VEVENT
BEGIN:VEVENT
DTSTART;TZID=Europe/Paris:20210923T200000
DTEND;TZID=Europe/Paris:20210923T203000
DTSTAMP:20260420T013819
CREATED:20210920T115405Z
LAST-MODIFIED:20210920T115425Z
UID:9621-1632427200-1632429000@www.ekvilibrium.si
SUMMARY:Skupinska energijska transmisija na daljavo
DESCRIPTION:Obroč se stiska. Ob tem marsikoga tudi notranje stiska\, po drugi strani pa to stiskanje začenja aktivirati tudi notranjo moč. Vem\, da vas je veliko\, ki zdaj potrebujete podporo pri vsem\, kar se (vam) dogaja\, zato bom ob enakonočju naredila brezplačno skupinsko energijsko transmisijo. Da vsi skupaj malce dvignemo duha in ohranimo zdravo pamet! \nZdaj je čas\, ko moramo res preseči vse naše strahove\, osebne in kolektivne. Preseči moramo pritiske\, manipulacije\, razdvajanja\, bremena iz preteklosti in skrbi pred tem\, kaj bo. Preseči moramo svojo majhnost in občutek nemoči. Zdaj moramo še bolj\, kot kadarkoli prej\, najti svoj center\, v njem stati v vsej svoji integriteti in zaupati\, sebi\, drugim in življenju\, da bomo igro odigrali prav\, modro. Zaupati moramo v proces in v to\, da se premikamo naprej\, v boljše verzije nas samih in v boljšo verzijo našega sveta. \nV četrtek se bomo povezali na daljavo\, tako kot smo se lani marca. V energiji\, srcih\, telepatsko\, brez uporabe katerekoli platforme. Če vas pokliče\, si dajte opomnik v koledar in se v četrtek ob 20.00 priklopite zraven. Pri tem se poskusite samo čim bolj prestaviti v občutek\, ko ste v sebi počutili najboljše. Ko ste bili najbolj srečni\, izpolnjeni\, ljubljeni\, ko ste najbolj čutili svojo moč\, ko vas nič ni moglo ustaviti …  tisto\, kar vam trenutno najbolj rezonira. Postavite se v ta občutek\, ne glede na to\, kar vas zdaj obremenjuje. Vse strahove\, skrbi\, izzive pa prepustite energiji\, ta bo\, kot običajno\, opravila »komunalno« delo\, čiščenje in podprla transformacijo. In del tega bomo zagotovo naredili tudi na kolektivni ravni. \nČutim\, da bodo naslednji trije do štirje meseci ključni. Zato bom takšno transmisijo do konca leta izvedla še nekajkrat. Datume bom razpisala sproti\, po občutku\, tako da spremljajte FB ali napovednik na moji spletni strani\, kjer bom objavila datume. Lahko tudi povabite kogarkoli\, za kogar čutite\, da bi ga energijska transmisija lahko podprla. \nNAVODILA ZA TRANSMISIJO: \n\nOb 20.00 (ali 5 minut prej) se ulezite nekam\, kjer vam bo udobno in vas nihče ne bo motil\, zaprite oči in ostanite tako vsaj dobre pol ure\, kolikor časa bo transmisija okvirno trajala. Če vas bo »odneslo«\, ostanite v ležečem položaju\, dokler energije ne popustijo. Naj vas popelje tja\, kamor morate iti!\nPred začetkom si za sprostitev ali umiritev lahko zavrtite kakšno prijetno glasbo\, tisto\, ki vam paše. Ni pa nujno\, lahko ste ves čas v tišini.\n\nPar glasbenih predlogov: \nhttps://www.youtube.com/watch?v=H_U5jiW3YFw \nhttps://www.youtube.com/watch?v=iGz8lvdOG_g \nhttps://www.youtube.com/watch?v=LGNfeg18u3o \nhttps://www.youtube.com/watch?v=0VqCISzubfo \n\nVsi\, ki boste sodelovali pri transmisiji\, ta dan ne pijte alkohola!\n\n  \nTisti\, ki nimate izkušnje s transmisijo\, si več o njej preberite tukaj: https://www.ekvilibrium.si/skupinska-transmisija/ \n(Predvsem čisto spodaj – odgovori na pogosto zastavljena vprašanja.) \n(op. Udeležba na energijski transmisiji je na lastno odgovornost. Psihično nestabilnim osebam\, osebam\, ki se zdravijo za psihično ali duševno boleznijo\, osebam\, nagnjenim k zavračanju realnosti ter odvisnikom udeležbo na transmisiji izrecno odsvetujem.)\n  \n******* \nP. s. Če želite prejemati e-novičnik\, v katerem enkrat do dvakrat mesečno objavljam napovednik dogodkov tekočega meseca\, informacije o delavnicah\, ter svoje bloge\, se prijavite tukaj: http://www.ekvilibrium.si/prijava-na-e-novicnik/ \n 
URL:https://www.ekvilibrium.si/dogodek/skupinska-energijska-transmisija-na-daljavo-brezplacno/
ATTACH;FMTTYPE=image/png:https://www.ekvilibrium.si/wp-content/uploads/2021/09/online-gratis.png
END:VEVENT
END:VCALENDAR