BEGIN:VCALENDAR
VERSION:2.0
PRODID:-//Ekvilibrium - ECPv6.15.20//NONSGML v1.0//EN
CALSCALE:GREGORIAN
METHOD:PUBLISH
X-WR-CALNAME:Ekvilibrium
X-ORIGINAL-URL:https://www.ekvilibrium.si
X-WR-CALDESC:Dogodki za Ekvilibrium
REFRESH-INTERVAL;VALUE=DURATION:PT1H
X-Robots-Tag:noindex
X-PUBLISHED-TTL:PT1H
BEGIN:VTIMEZONE
TZID:UTC
BEGIN:STANDARD
TZOFFSETFROM:+0000
TZOFFSETTO:+0000
TZNAME:UTC
DTSTART:20190101T000000
END:STANDARD
END:VTIMEZONE
BEGIN:VEVENT
DTSTART;TZID=UTC:20200623T180000
DTEND;TZID=UTC:20200623T200000
DTSTAMP:20260419T195652
CREATED:20200228T130937Z
LAST-MODIFIED:20200525T111641Z
UID:8642-1592935200-1592942400@www.ekvilibrium.si
SUMMARY:Skupinska energijska transmisija: HRPELJE - KOZINA
DESCRIPTION:ZA KOGA?\n• če se želite sprostiti in regenerirati v kopeli kozmične energije\n• če si želite napolniti notranji rezervoar lastne življenjske energije\n• če želite razširiti svojo zavest in se povezati s svojim bistvom\n• če si želite okrepiti svojo intuicijo in razumeti\, kaj vam ta govori\n• če želite razrešiti kakršnekoli notranje ali zunanje konflikte\, situacije\, odnose\n• če želite transformirati čustvene blokade ali omejena prepričanja\n• če potrebujete poriv\, da se premaknete ali pritisk na zavoro\, da se ustavite \nTisti\, ki se transmisij udeležujejo redno\, opažajo\, da se boljše počutijo\, da nimajo več določenih težav (npr. nekaterih bolečin\, bolečih menstruacij …)\, da lažje spijo\, da so bolj mirni\, da so lažje kos vsem vsakodnevnim obveznostim. Opažajo\, da imajo bolj urejene misli\,  da postajajo drugačni znotraj sebe\, da do določenih oseb ali v določenih situacijah reagirajo drugače. Nekateri začnejo bolj jasno videti svojo realnost\, sebe\, odnose – kot bi jim nekdo očistil očesno lečo. Nekateri začnejo potencirano sanjati in skozi sanje dobivajo pomembna sporočila iz svojega nezavednega. \nKAKO POTEKA?\nEnergijska transmisija poteka tako\, da vsi prisotni ustvarimo skupno energijsko polje. Potem se povežemo s kozmično energijo (čisto zavestjo)\, ki skozi skupno polje deluje na vsakega udeleženca in ga podpre tako\, kot je tistem trenutku v njegovo najvišje dobro\, tam\, kjer podporo najbolj potrebuje. \nČista zavest vedno deluje v globini in gre vse do jedra. Na vsakega posameznika deluje s takšno intenziteto\, ki je zanj najbolj optimalna. Zato imajo v isti transmisiji različni udeleženci lahko popolnoma različne izkušnje. Nekateri čutijo delovanje na fizičnem telesu (npr. mravljince\, težko ali lahko telo\, toploto ali mraz\, šumenje v ušesih …)\, drugim se sprožijo čustva\, ki jih morda prej sploh niso čutili\, nekaterim podivjajo misli ali se jim glava popolnoma izprazni\, nekateri imajo vizije\, dobijo notranja sporočila. Nekateri ne čutijo ničesar\, vendar transmisija vseeno deluje. \nV energijski transmisiji vedno prečistimo biopolje vsakega udeleženca\, ga napolnimo z najbolj optimalno vibracijo\, ga uravnovesimo in okrepimo zaščito. Učinek transmisije pogosto traja še nekaj dni po prenosu. \nPRAKTIČNI NAPOTKI:\nMed transmisijo bomo ležali. S seboj prinesite ležalko\, odejo\, da vas ne bo zeblo in nekaj za pod glavo\, da vam bo udobno. Prinesite tudi vodo\, ker po takšnem prenosu energije telo potrebuje dovolj tekočine. \nVeč o energijski transmisiji na portalu PETISVET.SI in V REVIJI JANA. \nPRIJAVA OBVEZNA:\ndo 21. junija oziroma do zapolnitve mest \nCENA:\n35 € (za dijake\, študente in upokojence 25 €) \n(op. Udeležba na energijski transmisiji je na lastno odgovornost. Psihično nestabilnim osebam\, osebam\, ki se zdravijo za psihično ali duševno boleznijo\, osebam\, nagnjenim k zavračanju realnosti ter odvisnikom udeležbo na transmisiji izrecno odsvetujem.)\n[vc_btn title=”Prijavi se” style=”3d” color=”inverse” align=”center” css_animation=”appear” link=”url:http%3A%2F%2Fwww.ekvilibrium.si%2Fprijava-na-dogodek%2F||target:%20_blank|”]
URL:https://www.ekvilibrium.si/dogodek/skupinska-energijska-transmisija-hrpelje-kozina-junij-2020/
LOCATION:Vaški dom Hrpelje\, Na Gorici 2\, Kozina\, 6240
ATTACH;FMTTYPE=image/png:https://www.ekvilibrium.si/wp-content/uploads/2018/12/slika-za-dogodke.png
ORGANIZER;CN="Ur%C5%A1ka Henigman":MAILTO:urska.henigman@ekvilibrium.si
END:VEVENT
END:VCALENDAR